BEGIN:VCALENDAR
VERSION:2.0
PRODID:-//UNIFOR Saskatchewan Local 911 - ECPv6.0.3//NONSGML v1.0//EN
CALSCALE:GREGORIAN
METHOD:PUBLISH
X-WR-CALNAME:UNIFOR Saskatchewan Local 911
X-ORIGINAL-URL:https://unifor911.org
X-WR-CALDESC:Events for UNIFOR Saskatchewan Local 911
REFRESH-INTERVAL;VALUE=DURATION:PT1H
X-Robots-Tag:noindex
X-PUBLISHED-TTL:PT1H
BEGIN:VTIMEZONE
TZID:America/Regina
BEGIN:STANDARD
TZOFFSETFROM:-0600
TZOFFSETTO:-0600
TZNAME:CST
DTSTART:20220101T000000
END:STANDARD
END:VTIMEZONE
BEGIN:VEVENT
DTSTART;TZID=America/Regina:20221116T190000
DTEND;TZID=America/Regina:20221116T200000
DTSTAMP:20260424T172036
CREATED:20221101T230225Z
LAST-MODIFIED:20221101T230604Z
UID:661-1668625200-1668628800@unifor911.org
SUMMARY:November 2022 General Membership Meeting
DESCRIPTION:See the Teams invite in your calendar
URL:https://unifor911.org/event/november-2022-general-membership-meeting/
END:VEVENT
END:VCALENDAR