BEGIN:VCALENDAR
VERSION:2.0
PRODID:-//UNIFOR Saskatchewan Local 911 - ECPv6.0.3//NONSGML v1.0//EN
CALSCALE:GREGORIAN
METHOD:PUBLISH
X-WR-CALNAME:UNIFOR Saskatchewan Local 911
X-ORIGINAL-URL:https://unifor911.org
X-WR-CALDESC:Events for UNIFOR Saskatchewan Local 911
REFRESH-INTERVAL;VALUE=DURATION:PT1H
X-Robots-Tag:noindex
X-PUBLISHED-TTL:PT1H
BEGIN:VTIMEZONE
TZID:America/Regina
BEGIN:STANDARD
TZOFFSETFROM:-0600
TZOFFSETTO:-0600
TZNAME:CST
DTSTART:20240101T000000
END:STANDARD
END:VTIMEZONE
BEGIN:VEVENT
DTSTART;TZID=America/Regina:20240221T190000
DTEND;TZID=America/Regina:20240221T200000
DTSTAMP:20260424T054225
CREATED:20240108T222711Z
LAST-MODIFIED:20240108T222711Z
UID:729-1708542000-1708545600@unifor911.org
SUMMARY:February 2024 General Meeting
DESCRIPTION:Order of Business\nCall to Order\nMinutes from previous meeting\nReports of Officers\nOld Business\nNew Business\nGood & Welfare\nAdjournment\n\nAn agenda with specific topics will be sent with your calendar invite
URL:https://unifor911.org/event/february-2024-general-meeting/
END:VEVENT
BEGIN:VEVENT
DTSTART;TZID=America/Regina:20240321T190000
DTEND;TZID=America/Regina:20240321T200000
DTSTAMP:20260424T054225
CREATED:20240108T222800Z
LAST-MODIFIED:20240108T222800Z
UID:731-1711047600-1711051200@unifor911.org
SUMMARY:March 2024 General Meeting
DESCRIPTION:Order of Business\nCall to Order\nMinutes from previous meeting\nReports of Officers\nOld Business\nNew Business\nGood & Welfare\nAdjournment\n\nAn agenda with specific topics will be sent with your calendar invite
URL:https://unifor911.org/event/march-2024-general-meeting/
END:VEVENT
BEGIN:VEVENT
DTSTART;TZID=America/Regina:20240416T190000
DTEND;TZID=America/Regina:20240416T200000
DTSTAMP:20260424T054225
CREATED:20240410T154148Z
LAST-MODIFIED:20240410T154148Z
UID:744-1713294000-1713297600@unifor911.org
SUMMARY:April 2024 General Meeting
DESCRIPTION:Order of Business\nCall to Order\nMinutes from previous meeting\nReports of Officers\nOld Business\nNew Business\nGood & Welfare\nAdjournment\n\nAn agenda with specific topics will be sent with your calendar invite
URL:https://unifor911.org/event/april-2024-general-meeting/
END:VEVENT
BEGIN:VEVENT
DTSTART;TZID=America/Regina:20240522T190000
DTEND;TZID=America/Regina:20240522T200000
DTSTAMP:20260424T054225
CREATED:20240410T154239Z
LAST-MODIFIED:20240514T182648Z
UID:746-1716404400-1716408000@unifor911.org
SUMMARY:May 2004 General Meeting
DESCRIPTION:Order of Business\nCall to Order\nMinutes from previous meeting\nReports of Officers\nOld Business\nNew Business\nGood & Welfare\nAdjournment\n\nAn agenda with specific topics will be sent with your calendar invite
URL:https://unifor911.org/event/may-2004-general-meeting/
END:VEVENT
BEGIN:VEVENT
DTSTART;TZID=America/Regina:20250925T190000
DTEND;TZID=America/Regina:20250925T200000
DTSTAMP:20260424T054225
CREATED:20250820T225134Z
LAST-MODIFIED:20250820T225451Z
UID:774-1758826800-1758830400@unifor911.org
SUMMARY:September General Meeting
DESCRIPTION:Order of Business\nCall to Order\nMinutes from previous meeting\nReports of Officers\nOld Business\nNew Business\n\nBursaries\n\n\nGood & Welfare\nAdjournment\n\nAn agenda with specific topics will be sent with your calendar invite
URL:https://unifor911.org/event/september-general-meeting/
END:VEVENT
END:VCALENDAR