BEGIN:VCALENDAR
VERSION:2.0
PRODID:-//UNIFOR Saskatchewan Local 911 - ECPv6.0.3//NONSGML v1.0//EN
CALSCALE:GREGORIAN
METHOD:PUBLISH
X-WR-CALNAME:UNIFOR Saskatchewan Local 911
X-ORIGINAL-URL:https://unifor911.org
X-WR-CALDESC:Events for UNIFOR Saskatchewan Local 911
REFRESH-INTERVAL;VALUE=DURATION:PT1H
X-Robots-Tag:noindex
X-PUBLISHED-TTL:PT1H
BEGIN:VTIMEZONE
TZID:America/Regina
BEGIN:STANDARD
TZOFFSETFROM:-0600
TZOFFSETTO:-0600
TZNAME:CST
DTSTART:20230101T000000
END:STANDARD
END:VTIMEZONE
BEGIN:VEVENT
DTSTART;TZID=America/Regina:20230615T190000
DTEND;TZID=America/Regina:20230615T200000
DTSTAMP:20260424T065437
CREATED:20230404T193220Z
LAST-MODIFIED:20230404T193220Z
UID:704-1686855600-1686859200@unifor911.org
SUMMARY:June 2023 General Membership Meeting
DESCRIPTION:Order of Business\nCall to Order\nMinutes from previous meeting\nReports of Officers\nOld Business\nNew Business\nGood & Welfare\nAdjournment\n\nAn agenda with specific topics will be sent with your invite
URL:https://unifor911.org/event/june-2023-general-membership-meeting/
END:VEVENT
END:VCALENDAR